BEGIN:VCALENDAR
VERSION:2.0
PRODID:-//wp-events-plugin.com//7.2.3.1//EN
TZID:Asia/Jerusalem
X-WR-TIMEZONE:Asia/Jerusalem
BEGIN:VEVENT
UID:5@iugs.org.il
DTSTART;TZID=Asia/Jerusalem;VALUE=DATE:20231019
DTEND;TZID=Asia/Jerusalem;VALUE=DATE:20231022
DTSTAMP:20230319T082945Z
URL:https://www.iugs.org.il/events/xvi-euga-annual-congress-2023-varese-it
 aly-19-21-october-2023-timetable-available/
SUMMARY:XVI EUGA Annual Congress 2023 - Varese (Italy) 19-21 October 2023 -
  Timetable available
DESCRIPTION:EUGA ANNUAL CONGRESS 2023\nXVI EUGA Annual Congress \, which w
 ill be held on 19-21 October 2023 in Varese (Italy).\nVARESE 19-21 OCTOBER
  2023\nMEETING CHAIRS: MAURIZIO SERATI – STEFANO SALVATORE\nhttps://www.
 eugacongress.org/\n[pdf-embedder url="https://www.iugs.org.il/images/EUGA-
 TIMETABLE-retro.pdf"]\n
ATTACH;FMTTYPE=image/jpeg:https://www.iugs.org.il/images/euga.png
CATEGORIES:כנס בינלאומי
LOCATION:Varese Italy\, Varese\, Varese\, Italy
X-APPLE-STRUCTURED-LOCATION;VALUE=URI;X-ADDRESS=Varese\, Varese\, Italy;X-A
 PPLE-RADIUS=100;X-TITLE=Varese Italy:geo:0,0
END:VEVENT
BEGIN:VTIMEZONE
TZID:Asia/Jerusalem
X-LIC-LOCATION:Asia/Jerusalem
BEGIN:DAYLIGHT
DTSTART:20230324T030000
TZOFFSETFROM:+0200
TZOFFSETTO:+0300
TZNAME:IDT
END:DAYLIGHT
END:VTIMEZONE
END:VCALENDAR