BEGIN:VCALENDAR
VERSION:2.0
PRODID:-//wp-events-plugin.com//7.2.3.1//EN
TZID:Asia/Jerusalem
X-WR-TIMEZONE:Asia/Jerusalem
BEGIN:VEVENT
UID:4@iugs.org.il
DTSTART;TZID=Asia/Jerusalem;VALUE=DATE:20230621
DTEND;TZID=Asia/Jerusalem;VALUE=DATE:20230625
DTSTAMP:20230319T084432Z
URL:https://www.iugs.org.il/events/%d7%9b%d7%a0%d7%91-iuga-%d7%94%d7%90%d7
 %92-%d7%94%d7%95%d7%9c%d7%a0%d7%93-%d7%99%d7%95%d7%a0%d7%99-2023/
SUMMARY:כנס IUGA השנתי האג הולנד יוני 2023
DESCRIPTION:קישור לאתר הכנס: https://www.iuga.org/events/annua
 l-meetings/2023-iuga-48th-annual-meeting
ATTACH;FMTTYPE=image/jpeg:https://www.iugs.org.il/images/IUGA.jpg
CATEGORIES:כנס בינלאומי
LOCATION:The Netherlands\, The Hague\, The Netherlands\, Hague\, Netherland
 s
X-APPLE-STRUCTURED-LOCATION;VALUE=URI;X-ADDRESS=The Hague\, The Netherlands
 \, Hague\, Netherlands;X-APPLE-RADIUS=100;X-TITLE=The Netherlands:geo:0,0
END:VEVENT
BEGIN:VTIMEZONE
TZID:Asia/Jerusalem
X-LIC-LOCATION:Asia/Jerusalem
BEGIN:DAYLIGHT
DTSTART:20230324T030000
TZOFFSETFROM:+0200
TZOFFSETTO:+0300
TZNAME:IDT
END:DAYLIGHT
END:VTIMEZONE
END:VCALENDAR