BEGIN:VCALENDAR
VERSION:2.0
PRODID:-//wp-events-plugin.com//7.2.3.1//EN
TZID:Asia/Jerusalem
X-WR-TIMEZONE:Asia/Jerusalem
BEGIN:VEVENT
UID:1@iugs.org.il
DTSTART;TZID=Asia/Jerusalem;VALUE=DATE:20230503
DTEND;TZID=Asia/Jerusalem;VALUE=DATE:20230506
DTSTAMP:20230319T075003Z
URL:https://www.iugs.org.il/events/%d7%94%d7%9b%d7%a0%d7%a1-%d7%94%d7%a9%d
 7%a0%d7%aa%d7%99-%d7%a9%d7%9c-%d7%94%d7%97%d7%91%d7%a8%d7%94-%d7%94%d7%99%
 d7%a9%d7%a8%d7%90%d7%9c%d7%99%d7%aa-%d7%9c%d7%90%d7%95%d7%a8%d7%95%d7%92%d
 7%99%d7%a0/
SUMMARY:הכנס השנתי של החברה הישראלית לאורוגי
 נקולוגיה כפר גלעדי 03-05.05.2023
DESCRIPTION:[pdf-embedder url="https://www.iugs.org.il/images/annual04-0605
 23abstracts.pdf"]
ATTACH;FMTTYPE=image/jpeg:https://www.iugs.org.il/images/IUGS-logo-460X295
 .jpg
CATEGORIES:כנס שנתי
LOCATION:כפר גלעדי\, כפר גלעדי\, כפר גלעדי\, Israel
X-APPLE-STRUCTURED-LOCATION;VALUE=URI;X-ADDRESS=כפר גלעדי\, כפר 
 גלעדי\, Israel;X-APPLE-RADIUS=100;X-TITLE=כפר גלעדי:geo:0,0
END:VEVENT
BEGIN:VTIMEZONE
TZID:Asia/Jerusalem
X-LIC-LOCATION:Asia/Jerusalem
BEGIN:DAYLIGHT
DTSTART:20230324T030000
TZOFFSETFROM:+0200
TZOFFSETTO:+0300
TZNAME:IDT
END:DAYLIGHT
END:VTIMEZONE
END:VCALENDAR