BEGIN:VCALENDAR
VERSION:2.0
PRODID:-//wp-events-plugin.com//7.2.3.1//EN
TZID:Asia/Jerusalem
X-WR-TIMEZONE:Asia/Jerusalem
BEGIN:VEVENT
UID:6@iugs.org.il
DTSTART;TZID=Asia/Jerusalem;VALUE=DATE:20231206
DTEND;TZID=Asia/Jerusalem;VALUE=DATE:20231208
DTSTAMP:20230828T140131Z
URL:https://www.iugs.org.il/events/%d7%94%d7%9b%d7%a0%d7%a1-%d7%94%d7%9e%d
 7%a9%d7%95%d7%aa%d7%a3-%d7%a9%d7%9c-%d7%94%d7%97%d7%91%d7%a8%d7%94-%d7%94%
 d7%99%d7%a9%d7%a8%d7%90%d7%9c%d7%99%d7%aa-%d7%9c%d7%90%d7%95%d7%a8%d7%95%d
 7%92%d7%a0/
SUMMARY:הכנס המשותף של החברה הישראלית לאורוג
 ניקולוגיה עם החברה הצ'כית לאורוגניקולוג
 יה
DESCRIPTION:[pdf-embedder url="https://www.iugs.org.il/images/CUR23_Pozvank
 a_ENG.pdf" title="ČUR23_Pozvánka_ENG"]
ATTACH;FMTTYPE=image/jpeg:https://www.iugs.org.il/images/CUR23_Pozvanka.pn
 g
CATEGORIES:כנס בינלאומי
LOCATION:Clarion Congress Hotel Prague\, Clarion Congress Hotel Prague\, Pr
 ague\, Czech Republic
X-APPLE-STRUCTURED-LOCATION;VALUE=URI;X-ADDRESS=Clarion Congress Hotel Prag
 ue\, Prague\, Czech Republic;X-APPLE-RADIUS=100;X-TITLE=Clarion Congress H
 otel Prague:geo:0,0
END:VEVENT
BEGIN:VTIMEZONE
TZID:Asia/Jerusalem
X-LIC-LOCATION:Asia/Jerusalem
BEGIN:STANDARD
DTSTART:20231029T010000
TZOFFSETFROM:+0300
TZOFFSETTO:+0200
TZNAME:IST
END:STANDARD
END:VTIMEZONE
END:VCALENDAR